Workbook

Sheet 受講申込書
A1: メールアドレス saigai@j.iwate-med.ac.jp
A3: 岩手医科大学 災害時地域医療支援教育センター 行
A5: 令和７年度 災害時実践力強化事業
A6: 広域災害救急医療情報システム（EMIS）研修 受講申込書
A8: 下記のとおり申込みいたします。
A11: 所属機関 | B11: 所属部署 | C11: 職名 | D11: 氏名 | F11: ふりがな | G11: 電話番号 | H11: メールアドレス | I11: 参加時間帯（該当に○）
I12: 6月12日（木） 午前10時～、午後14時～
A13: 西徳田病院 | B13: 看護部 | C13: 看護師 | D13: 矢巾 太郎 | F13: やはば たろう | G13: 019-651-5111 （内線555） | H13: saigai@j.iwate-med.ac.jp | I13: ○ | J13: 午前 | K13: － | L13: 午後
I14: － | J14: 午前 | K14: － | L14: 午後
I15: － | J15: 午前 | K15: － | L15: 午後
I16: － | J16: 午前 | K16: － | L16: 午後
I17: － | J17: 午前 | K17: － | L17: 午後
A19: 申込締切：5/30（金）17:00

Sheet レコード
A1: 所属機関 | B1: 職名 | C1: 氏名 | D1: ふりがな | E1: 電話番号 | F1: メールアドレス | G1: AM | H1: PM
A2: =IF(受講申込書!A14="","",受講申込書!A14) | B2: =IF(受講申込書!C14="","",受講申込書!C14) | C2: =IF(受講申込書!D14="","",受講申込書!D14) | D2: =IF(受講申込書!F14="","",受講申込書!F14) | E2: =IF(受講申込書!G14="","",受講申込書!G14) | F2: =IF(受講申込書!H14="","",受講申込書!H14) | G2: =IF(C2="","",IF(受講申込書!I14="","",受講申込書!I14)) | H2: =IF(C2="","",IF(受講申込書!K14="","",受講申込書!K14))
A3: =IF(受講申込書!A15="","",受講申込書!A15) | B3: =IF(受講申込書!C15="","",受講申込書!C15) | C3: =IF(受講申込書!D15="","",受講申込書!D15) | D3: =IF(受講申込書!F15="","",受講申込書!F15) | E3: =IF(受講申込書!G15="","",受講申込書!G15) | F3: =IF(受講申込書!H15="","",受講申込書!H15) | G3: =IF(C3="","",IF(受講申込書!I15="","",受講申込書!I15)) | H3: =IF(C3="","",IF(受講申込書!K15="","",受講申込書!K15))
A4: =IF(受講申込書!A16="","",受講申込書!A16) | B4: =IF(受講申込書!C16="","",受講申込書!C16) | C4: =IF(受講申込書!D16="","",受講申込書!D16) | D4: =IF(受講申込書!F16="","",受講申込書!F16) | E4: =IF(受講申込書!G16="","",受講申込書!G16) | F4: =IF(受講申込書!H16="","",受講申込書!H16) | G4: =IF(C4="","",IF(受講申込書!I16="","",受講申込書!I16)) | H4: =IF(C4="","",IF(受講申込書!K16="","",受講申込書!K16))
A5: =IF(受講申込書!A17="","",受講申込書!A17) | B5: =IF(受講申込書!C17="","",受講申込書!C17) | C5: =IF(受講申込書!D17="","",受講申込書!D17) | D5: =IF(受講申込書!F17="","",受講申込書!F17) | E5: =IF(受講申込書!G17="","",受講申込書!G17) | F5: =IF(受講申込書!H17="","",受講申込書!H17) | G5: =IF(C5="","",IF(受講申込書!I17="","",受講申込書!I17)) | H5: =IF(C5="","",IF(受講申込書!K17="","",受講申込書!K17))

Sheet (旧)受講申込書
H1: 別紙
A2: 岩手医科大学 災害時地域医療支援教育センター 行
A4: 広域災害救急医療情報システム操作研修会受講申込書
A6: 下記のとおり申込みいたします。
A8: 所属 | B8: 職名 | C8: ふりがな | D8: 電話番号 | E8: メールアドレス | F8: インターネット接続可能ノートPC 又はタブレット端末の持参について
C9: 氏名 | F9: ※可・不可のいずれかに チェックしてください。
A10: 例 西徳田病院 | B10: 看護師長 | C10: やはば たろう | D10: 019-651-5111 | E10: saigai@j.iwate-med.ac.jp | F10: 持参 可
C11: 矢巾 太郎 | D11: (内線5563） | F11: 持参 不可
F12: 持参 可
F13: 持参 不可
F14: 持参 可
F15: 持参 不可
F16: 持参 可
F17: 持参 不可
F18: 持参 可
F19: 持参 不可
A21: ※ 提出の際は、岩手医科大学災害時地域医療支援教育センター事務室（saigai@j.iwate-med.ac.jp）までメールにてお送りください。
